BEGIN:VCALENDAR
VERSION:2.0
PRODID:-//Fotokreis-Bocholt - ECPv6.15.17.1//NONSGML v1.0//EN
CALSCALE:GREGORIAN
METHOD:PUBLISH
X-WR-CALNAME:Fotokreis-Bocholt
X-ORIGINAL-URL:https://fotokreis-bocholt.com
X-WR-CALDESC:Veranstaltungen für Fotokreis-Bocholt
REFRESH-INTERVAL;VALUE=DURATION:PT1H
X-Robots-Tag:noindex
X-PUBLISHED-TTL:PT1H
BEGIN:VTIMEZONE
TZID:Europe/Helsinki
BEGIN:DAYLIGHT
TZOFFSETFROM:+0200
TZOFFSETTO:+0300
TZNAME:EEST
DTSTART:20250330T010000
END:DAYLIGHT
BEGIN:STANDARD
TZOFFSETFROM:+0300
TZOFFSETTO:+0200
TZNAME:EET
DTSTART:20251026T010000
END:STANDARD
BEGIN:DAYLIGHT
TZOFFSETFROM:+0200
TZOFFSETTO:+0300
TZNAME:EEST
DTSTART:20260329T010000
END:DAYLIGHT
BEGIN:STANDARD
TZOFFSETFROM:+0300
TZOFFSETTO:+0200
TZNAME:EET
DTSTART:20261025T010000
END:STANDARD
BEGIN:DAYLIGHT
TZOFFSETFROM:+0200
TZOFFSETTO:+0300
TZNAME:EEST
DTSTART:20270328T010000
END:DAYLIGHT
BEGIN:STANDARD
TZOFFSETFROM:+0300
TZOFFSETTO:+0200
TZNAME:EET
DTSTART:20271031T010000
END:STANDARD
END:VTIMEZONE
BEGIN:VEVENT
DTSTART;TZID=Europe/Helsinki:20260102T193000
DTEND;TZID=Europe/Helsinki:20260102T220000
DTSTAMP:20260420T111559
CREATED:20251204T213648Z
LAST-MODIFIED:20251204T214452Z
UID:7363-1767382200-1767391200@fotokreis-bocholt.com
SUMMARY:Monatstreffen 2025-12
DESCRIPTION:Das neue Monatsthema von Günther lautet “Sport”.
URL:https://fotokreis-bocholt.com/event/monatstreffen-2025-12/
LOCATION:Gaststätte “Zur Glocke”\, Alfred-Flender-Straße 128\, Bocholt\, NRW\, 46395\, Deutschland
CATEGORIES:Monatstreffen
ATTACH;FMTTYPE=image/png:https://fotokreis-bocholt.com/wp-content/uploads/2025/12/Kalender_2026-01-02_Fr.png
END:VEVENT
BEGIN:VEVENT
DTSTART;TZID=Europe/Helsinki:20260130T193000
DTEND;TZID=Europe/Helsinki:20260130T220000
DTSTAMP:20260420T111559
CREATED:20251204T214833Z
LAST-MODIFIED:20251204T214926Z
UID:7368-1769801400-1769810400@fotokreis-bocholt.com
SUMMARY:Monatstreffen 2026-01
DESCRIPTION:Das Monatsthema von Michael lautet “Küchenutensilien in Szene gesetzt”.
URL:https://fotokreis-bocholt.com/event/monatstreffen-2026-01/
LOCATION:Gaststätte “Zur Glocke”\, Alfred-Flender-Straße 128\, Bocholt\, NRW\, 46395\, Deutschland
CATEGORIES:Monatstreffen
ATTACH;FMTTYPE=image/png:https://fotokreis-bocholt.com/wp-content/uploads/2025/12/Kalender_2026-01-30_Fr.png
END:VEVENT
END:VCALENDAR