BEGIN:VCALENDAR
VERSION:2.0
PRODID:-//Fotokreis-Bocholt - ECPv6.15.17.1//NONSGML v1.0//EN
CALSCALE:GREGORIAN
METHOD:PUBLISH
X-ORIGINAL-URL:https://fotokreis-bocholt.com
X-WR-CALDESC:Veranstaltungen für Fotokreis-Bocholt
REFRESH-INTERVAL;VALUE=DURATION:PT1H
X-Robots-Tag:noindex
X-PUBLISHED-TTL:PT1H
BEGIN:VTIMEZONE
TZID:Europe/Helsinki
BEGIN:DAYLIGHT
TZOFFSETFROM:+0200
TZOFFSETTO:+0300
TZNAME:EEST
DTSTART:20240331T010000
END:DAYLIGHT
BEGIN:STANDARD
TZOFFSETFROM:+0300
TZOFFSETTO:+0200
TZNAME:EET
DTSTART:20241027T010000
END:STANDARD
BEGIN:DAYLIGHT
TZOFFSETFROM:+0200
TZOFFSETTO:+0300
TZNAME:EEST
DTSTART:20250330T010000
END:DAYLIGHT
BEGIN:STANDARD
TZOFFSETFROM:+0300
TZOFFSETTO:+0200
TZNAME:EET
DTSTART:20251026T010000
END:STANDARD
BEGIN:DAYLIGHT
TZOFFSETFROM:+0200
TZOFFSETTO:+0300
TZNAME:EEST
DTSTART:20260329T010000
END:DAYLIGHT
BEGIN:STANDARD
TZOFFSETFROM:+0300
TZOFFSETTO:+0200
TZNAME:EET
DTSTART:20261025T010000
END:STANDARD
END:VTIMEZONE
BEGIN:VEVENT
DTSTART;TZID=Europe/Helsinki:20250725T183000
DTEND;TZID=Europe/Helsinki:20250725T230000
DTSTAMP:20260422T195701
CREATED:20250622T190702Z
LAST-MODIFIED:20250622T190702Z
UID:6856-1753468200-1753484400@fotokreis-bocholt.com
SUMMARY:Monatstreffen 2025-07
DESCRIPTION:Schwerpunkt des Treffens ist der Vortrag von Richie Schwarz. \nAchtung: Beginn ist bereits eine Stunde früher\, also um 18:30 Uhr.
URL:https://fotokreis-bocholt.com/event/monatstreffen-2025-07/
LOCATION:Gaststätte “Zur Glocke”\, Alfred-Flender-Straße 128\, Bocholt\, NRW\, 46395\, Deutschland
CATEGORIES:Monatstreffen
ATTACH;FMTTYPE=image/png:https://fotokreis-bocholt.com/wp-content/uploads/2025/06/Kalender_2025-07-25_Fr.png
END:VEVENT
END:VCALENDAR