BEGIN:VCALENDAR
VERSION:2.0
PRODID:-//Fotokreis-Bocholt - ECPv6.15.17.1//NONSGML v1.0//EN
CALSCALE:GREGORIAN
METHOD:PUBLISH
X-ORIGINAL-URL:https://fotokreis-bocholt.com
X-WR-CALDESC:Veranstaltungen für Fotokreis-Bocholt
REFRESH-INTERVAL;VALUE=DURATION:PT1H
X-Robots-Tag:noindex
X-PUBLISHED-TTL:PT1H
BEGIN:VTIMEZONE
TZID:Europe/Helsinki
BEGIN:DAYLIGHT
TZOFFSETFROM:+0200
TZOFFSETTO:+0300
TZNAME:EEST
DTSTART:20230326T010000
END:DAYLIGHT
BEGIN:STANDARD
TZOFFSETFROM:+0300
TZOFFSETTO:+0200
TZNAME:EET
DTSTART:20231029T010000
END:STANDARD
BEGIN:DAYLIGHT
TZOFFSETFROM:+0200
TZOFFSETTO:+0300
TZNAME:EEST
DTSTART:20240331T010000
END:DAYLIGHT
BEGIN:STANDARD
TZOFFSETFROM:+0300
TZOFFSETTO:+0200
TZNAME:EET
DTSTART:20241027T010000
END:STANDARD
BEGIN:DAYLIGHT
TZOFFSETFROM:+0200
TZOFFSETTO:+0300
TZNAME:EEST
DTSTART:20250330T010000
END:DAYLIGHT
BEGIN:STANDARD
TZOFFSETFROM:+0300
TZOFFSETTO:+0200
TZNAME:EET
DTSTART:20251026T010000
END:STANDARD
END:VTIMEZONE
BEGIN:VEVENT
DTSTART;TZID=Europe/Helsinki:20240705T193000
DTEND;TZID=Europe/Helsinki:20240705T193000
DTSTAMP:20260423T152458
CREATED:20240630T184642Z
LAST-MODIFIED:20240708T042633Z
UID:2070-1720207800-1720207800@fotokreis-bocholt.com
SUMMARY:Monatstreffen 2024-06
DESCRIPTION:Der Termin wurde wegen des Viertelfinalspiels unserer Nationalmannschaft auf den 12.07.2024 verschoben.
URL:https://fotokreis-bocholt.com/event/monatstreffen-2024-06-2/
LOCATION:Gaststätte “Zur Glocke”\, Alfred-Flender-Straße 128\, Bocholt\, NRW\, 46395\, Deutschland
CATEGORIES:Monatstreffen
ATTACH;FMTTYPE=image/png:https://fotokreis-bocholt.com/wp-content/uploads/2024/07/Kalender_2024-07-05_Fr_aus.png
END:VEVENT
BEGIN:VEVENT
DTSTART;TZID=Europe/Helsinki:20240712T193000
DTEND;TZID=Europe/Helsinki:20240712T193000
DTSTAMP:20260423T152458
CREATED:20240708T042547Z
LAST-MODIFIED:20240708T043256Z
UID:4108-1720812600-1720812600@fotokreis-bocholt.com
SUMMARY:Monatstreffen 2024-06a
DESCRIPTION:Ersatztermin für den 05.07.2024. \nViolas Thema lautet: “Der Blick durchs Glas/Scheibe”. Es muss allerdings sichtbar sein\, dass durch Glas fotografiert wurde. \n5-Bilder-Präsentation von Barbara\, Heidi und Michael
URL:https://fotokreis-bocholt.com/event/monatstreffen-2024-06-2-2/
LOCATION:Gaststätte “Zur Glocke”\, Alfred-Flender-Straße 128\, Bocholt\, NRW\, 46395\, Deutschland
CATEGORIES:Monatstreffen
ATTACH;FMTTYPE=image/png:https://fotokreis-bocholt.com/wp-content/uploads/2024/07/Kalender_2024-07-12_Fr.png
END:VEVENT
BEGIN:VEVENT
DTSTART;TZID=Europe/Helsinki:20240726T193000
DTEND;TZID=Europe/Helsinki:20240726T193000
DTSTAMP:20260423T152458
CREATED:20240603T113003Z
LAST-MODIFIED:20240712T175925Z
UID:3795-1722022200-1722022200@fotokreis-bocholt.com
SUMMARY:Monatstreffen 2024-07
DESCRIPTION:Dieters Thema lautet: “Kirche”. Das Wort Kirche ist dabei ganz allgemein gefaßt. \n5-Bilder-Präsentation von Annette\, Günther und Walter
URL:https://fotokreis-bocholt.com/event/monatstreffen-2024-07/
LOCATION:Gaststätte “Zur Glocke”\, Alfred-Flender-Straße 128\, Bocholt\, NRW\, 46395\, Deutschland
CATEGORIES:Monatstreffen
ATTACH;FMTTYPE=image/png:https://fotokreis-bocholt.com/wp-content/uploads/2024/06/Kalender_2024-07-26_Fr.png
END:VEVENT
END:VCALENDAR