BEGIN:VCALENDAR
VERSION:2.0
PRODID:-//Fotokreis-Bocholt - ECPv6.15.17.1//NONSGML v1.0//EN
CALSCALE:GREGORIAN
METHOD:PUBLISH
X-ORIGINAL-URL:https://fotokreis-bocholt.com
X-WR-CALDESC:Veranstaltungen für Fotokreis-Bocholt
REFRESH-INTERVAL;VALUE=DURATION:PT1H
X-Robots-Tag:noindex
X-PUBLISHED-TTL:PT1H
BEGIN:VTIMEZONE
TZID:Europe/Helsinki
BEGIN:DAYLIGHT
TZOFFSETFROM:+0200
TZOFFSETTO:+0300
TZNAME:EEST
DTSTART:20230326T010000
END:DAYLIGHT
BEGIN:STANDARD
TZOFFSETFROM:+0300
TZOFFSETTO:+0200
TZNAME:EET
DTSTART:20231029T010000
END:STANDARD
BEGIN:DAYLIGHT
TZOFFSETFROM:+0200
TZOFFSETTO:+0300
TZNAME:EEST
DTSTART:20240331T010000
END:DAYLIGHT
BEGIN:STANDARD
TZOFFSETFROM:+0300
TZOFFSETTO:+0200
TZNAME:EET
DTSTART:20241027T010000
END:STANDARD
BEGIN:DAYLIGHT
TZOFFSETFROM:+0200
TZOFFSETTO:+0300
TZNAME:EEST
DTSTART:20250330T010000
END:DAYLIGHT
BEGIN:STANDARD
TZOFFSETFROM:+0300
TZOFFSETTO:+0200
TZNAME:EET
DTSTART:20251026T010000
END:STANDARD
END:VTIMEZONE
BEGIN:VEVENT
DTSTART;TZID=Europe/Helsinki:20240531T193000
DTEND;TZID=Europe/Helsinki:20240531T193000
DTSTAMP:20260423T190122
CREATED:20240426T184229Z
LAST-MODIFIED:20240616T045442Z
UID:2068-1717183800-1717183800@fotokreis-bocholt.com
SUMMARY:Monatstreffen 2024-05
DESCRIPTION:Das Thema für Mai ist: Bewegungsunschärfe im Alltag \nDie 5-Bilder-Präsentation von Rainer\, Günther und Wilm
URL:https://fotokreis-bocholt.com/event/monatstreffen-2024-05/
LOCATION:Gaststätte “Zur Glocke”\, Alfred-Flender-Straße 128\, Bocholt\, NRW\, 46395\, Deutschland
ATTACH;FMTTYPE=image/png:https://fotokreis-bocholt.com/wp-content/uploads/2024/06/Kalender_2024-05-31_Fr.png
END:VEVENT
END:VCALENDAR